BEGIN:VCALENDAR
VERSION:2.0
PRODID:-//YRAACC - ECPv6.15.18//NONSGML v1.0//EN
CALSCALE:GREGORIAN
METHOD:PUBLISH
X-WR-CALNAME:YRAACC
X-ORIGINAL-URL:https://yorkregionaacc.ca
X-WR-CALDESC:Events for YRAACC
REFRESH-INTERVAL;VALUE=DURATION:PT1H
X-Robots-Tag:noindex
X-PUBLISHED-TTL:PT1H
BEGIN:VTIMEZONE
TZID:UTC
BEGIN:STANDARD
TZOFFSETFROM:+0000
TZOFFSETTO:+0000
TZNAME:UTC
DTSTART:20240101T000000
END:STANDARD
END:VTIMEZONE
BEGIN:VEVENT
DTSTART;TZID=UTC:20250327T180000
DTEND;TZID=UTC:20250327T190000
DTSTAMP:20260421T094129
CREATED:20241021T180157Z
LAST-MODIFIED:20250326T155219Z
UID:14856-1743098400-1743102000@yorkregionaacc.ca
SUMMARY:Virtually on Zoom - Access to mental health services
DESCRIPTION:Topic: How to navigate the system -Where to get help and support?  Free or affordable access\nto mental health services \n  \n  \nRegistration link: \nhttps://www.eventbrite.ca/e/1259693058849?aff=oddtdtcreator
URL:https://yorkregionaacc.ca/event/virtually-on-zoom-access-to-mental-health-services/
CATEGORIES:Senior's Program
ATTACH;FMTTYPE=image/png:https://yorkregionaacc.ca/wp-content/uploads/2024/10/Postponed-Self-Care-Navigating-Community-Government-Services.png
END:VEVENT
END:VCALENDAR